BEGIN:VCALENDAR
VERSION:2.0
PRODID:-//Minnesota State Board of Continuing Legal Education - ECPv6.15.20//NONSGML v1.0//EN
CALSCALE:GREGORIAN
METHOD:PUBLISH
X-ORIGINAL-URL:https://cle.mn.gov
X-WR-CALDESC:Events for Minnesota State Board of Continuing Legal Education
REFRESH-INTERVAL;VALUE=DURATION:PT1H
X-Robots-Tag:noindex
X-PUBLISHED-TTL:PT1H
BEGIN:VTIMEZONE
TZID:UTC
BEGIN:STANDARD
TZOFFSETFROM:+0000
TZOFFSETTO:+0000
TZNAME:UTC
DTSTART:20160101T000000
END:STANDARD
END:VTIMEZONE
BEGIN:VEVENT
DTSTART;VALUE=DATE:20190527
DTEND;VALUE=DATE:20190528
DTSTAMP:20260425T180741
CREATED:20181102T202831Z
LAST-MODIFIED:20181102T202831Z
UID:838-1558915200-1559001599@cle.mn.gov
SUMMARY:Office closed
DESCRIPTION:
URL:https://cle.mn.gov/event/office-closed-25/
END:VEVENT
BEGIN:VEVENT
DTSTART;VALUE=DATE:20190404
DTEND;VALUE=DATE:20190405
DTSTAMP:20260425T180741
CREATED:20181102T203756Z
LAST-MODIFIED:20181102T203756Z
UID:852-1554336000-1554422399@cle.mn.gov
SUMMARY:CLE Board meeting
DESCRIPTION:CLE Board meeting to be held in Board office on 4/4/19 at 1:00 p.m.
URL:https://cle.mn.gov/event/cle-board-meeting-10/
END:VEVENT
BEGIN:VEVENT
DTSTART;VALUE=DATE:20190218
DTEND;VALUE=DATE:20190219
DTSTAMP:20260425T180741
CREATED:20181102T202814Z
LAST-MODIFIED:20181102T202814Z
UID:836-1550448000-1550534399@cle.mn.gov
SUMMARY:Office closed
DESCRIPTION:
URL:https://cle.mn.gov/event/office-closed-24/
END:VEVENT
BEGIN:VEVENT
DTSTART;VALUE=DATE:20190121
DTEND;VALUE=DATE:20190122
DTSTAMP:20260425T180741
CREATED:20181102T202759Z
LAST-MODIFIED:20181102T202759Z
UID:834-1548028800-1548115199@cle.mn.gov
SUMMARY:Office closed
DESCRIPTION:
URL:https://cle.mn.gov/event/office-closed-23/
END:VEVENT
BEGIN:VEVENT
DTSTART;VALUE=DATE:20190101
DTEND;VALUE=DATE:20190102
DTSTAMP:20260425T180741
CREATED:20171012T212735Z
LAST-MODIFIED:20171012T212735Z
UID:713-1546300800-1546387199@cle.mn.gov
SUMMARY:Office closed
DESCRIPTION:
URL:https://cle.mn.gov/event/office-closed-22/
END:VEVENT
BEGIN:VEVENT
DTSTART;VALUE=DATE:20181231
DTEND;VALUE=DATE:20190101
DTSTAMP:20260425T180741
CREATED:20171012T212706Z
LAST-MODIFIED:20171012T212706Z
UID:711-1546214400-1546300799@cle.mn.gov
SUMMARY:Office hours 12/31/18 are 7:30 a.m. - 4:00 p.m.
DESCRIPTION:
URL:https://cle.mn.gov/event/office-hours-123118-are-730-a-m-400-p-m/
END:VEVENT
BEGIN:VEVENT
DTSTART;VALUE=DATE:20181225
DTEND;VALUE=DATE:20181226
DTSTAMP:20260425T180741
CREATED:20171012T212612Z
LAST-MODIFIED:20171012T212612Z
UID:707-1545696000-1545782399@cle.mn.gov
SUMMARY:Office closed
DESCRIPTION:
URL:https://cle.mn.gov/event/office-closed-21/
END:VEVENT
BEGIN:VEVENT
DTSTART;VALUE=DATE:20181224
DTEND;VALUE=DATE:20181225
DTSTAMP:20260425T180741
CREATED:20171012T212641Z
LAST-MODIFIED:20181010T184454Z
UID:709-1545609600-1545695999@cle.mn.gov
SUMMARY:Office closed 12/24/18
DESCRIPTION:The Board office will be closed on December 24\, 2018.
URL:https://cle.mn.gov/event/office-hours-122418-are-730-a-m-400-p-m/
END:VEVENT
BEGIN:VEVENT
DTSTART;TZID=UTC:20181213T130000
DTEND;TZID=UTC:20181213T140000
DTSTAMP:20260425T180741
CREATED:20171012T175803Z
LAST-MODIFIED:20171012T175803Z
UID:687-1544706000-1544709600@cle.mn.gov
SUMMARY:CLE Board meeting
DESCRIPTION:CLE Board meeting to be held in Board office on 12/13/18 at 1:00 p.m.
URL:https://cle.mn.gov/event/cle-board-meeting-12/
END:VEVENT
BEGIN:VEVENT
DTSTART;VALUE=DATE:20181122
DTEND;VALUE=DATE:20181124
DTSTAMP:20260425T180741
CREATED:20171012T193332Z
LAST-MODIFIED:20171012T193332Z
UID:703-1542844800-1543017599@cle.mn.gov
SUMMARY:Office closed
DESCRIPTION:
URL:https://cle.mn.gov/event/office-closed-20/
END:VEVENT
BEGIN:VEVENT
DTSTART;VALUE=DATE:20181121
DTEND;VALUE=DATE:20181122
DTSTAMP:20260425T180741
CREATED:20171012T193406Z
LAST-MODIFIED:20171012T212529Z
UID:705-1542758400-1542844799@cle.mn.gov
SUMMARY:Office hours 11/21/18 are 7:30 a.m. - 4:00 p.m.
DESCRIPTION:
URL:https://cle.mn.gov/event/office-hours-112118-are-730-a-m-400-p-m/
END:VEVENT
BEGIN:VEVENT
DTSTART;VALUE=DATE:20181112
DTEND;VALUE=DATE:20181113
DTSTAMP:20260425T180741
CREATED:20171012T193305Z
LAST-MODIFIED:20171012T193305Z
UID:701-1541980800-1542067199@cle.mn.gov
SUMMARY:Office closed
DESCRIPTION:
URL:https://cle.mn.gov/event/office-closed-19/
END:VEVENT
BEGIN:VEVENT
DTSTART;TZID=UTC:20181102T080000
DTEND;TZID=UTC:20181102T170000
DTSTAMP:20260425T180741
CREATED:20181102T203903Z
LAST-MODIFIED:20181102T203903Z
UID:856-1541145600-1541178000@cle.mn.gov
SUMMARY:CLE Board Meeting
DESCRIPTION:CLE Board meeting to be held in Board office on 9/19/19 at 1:00 p.m.
URL:https://cle.mn.gov/event/cle-board-meeting-14/
END:VEVENT
BEGIN:VEVENT
DTSTART;TZID=UTC:20180920T130000
DTEND;TZID=UTC:20180920T140000
DTSTAMP:20260425T180741
CREATED:20171012T175724Z
LAST-MODIFIED:20171012T175724Z
UID:685-1537448400-1537452000@cle.mn.gov
SUMMARY:CLE Board meeting
DESCRIPTION:CLE Board meeting to be held in Board office on 9/20/18 at 1:00 p.m.
URL:https://cle.mn.gov/event/cle-board-meeting-11/
END:VEVENT
BEGIN:VEVENT
DTSTART;VALUE=DATE:20180903
DTEND;VALUE=DATE:20180904
DTSTAMP:20260425T180741
CREATED:20171012T193238Z
LAST-MODIFIED:20171012T193238Z
UID:699-1535932800-1536019199@cle.mn.gov
SUMMARY:Office closed
DESCRIPTION:
URL:https://cle.mn.gov/event/office-closed-18/
END:VEVENT
BEGIN:VEVENT
DTSTART;VALUE=DATE:20180704
DTEND;VALUE=DATE:20180705
DTSTAMP:20260425T180741
CREATED:20171012T192109Z
LAST-MODIFIED:20171012T193042Z
UID:695-1530662400-1530748799@cle.mn.gov
SUMMARY:Office closed
DESCRIPTION:
URL:https://cle.mn.gov/event/office-closed-17/
END:VEVENT
BEGIN:VEVENT
DTSTART;VALUE=DATE:20180703
DTEND;VALUE=DATE:20180704
DTSTAMP:20260425T180741
CREATED:20171012T193115Z
LAST-MODIFIED:20171012T193115Z
UID:697-1530576000-1530662399@cle.mn.gov
SUMMARY:Office hours 7/3/18 are 7:30 a.m. - 4:00 p.m.
DESCRIPTION:
URL:https://cle.mn.gov/event/office-hours-7318-are-730-a-m-400-p-m/
END:VEVENT
BEGIN:VEVENT
DTSTART;VALUE=DATE:20180528
DTEND;VALUE=DATE:20180529
DTSTAMP:20260425T180741
CREATED:20171012T190558Z
LAST-MODIFIED:20171012T190558Z
UID:693-1527465600-1527551999@cle.mn.gov
SUMMARY:Office closed
DESCRIPTION:
URL:https://cle.mn.gov/event/office-closed-16/
END:VEVENT
BEGIN:VEVENT
DTSTART;TZID=UTC:20180517T130000
DTEND;TZID=UTC:20180517T140000
DTSTAMP:20260425T180741
CREATED:20171012T175506Z
LAST-MODIFIED:20180320T175239Z
UID:681-1526562000-1526565600@cle.mn.gov
SUMMARY:CLE Board meeting
DESCRIPTION:CLE Board meeting to be held in Board office on 5/17/18 at 1:00 p.m.
URL:https://cle.mn.gov/event/cle-board-meeting-9/
END:VEVENT
BEGIN:VEVENT
DTSTART;VALUE=DATE:20180219
DTEND;VALUE=DATE:20180220
DTSTAMP:20260425T180741
CREATED:20171012T190534Z
LAST-MODIFIED:20171012T190534Z
UID:691-1518998400-1519084799@cle.mn.gov
SUMMARY:Office closed
DESCRIPTION:
URL:https://cle.mn.gov/event/office-closed-15/
END:VEVENT
BEGIN:VEVENT
DTSTART;VALUE=DATE:20180115
DTEND;VALUE=DATE:20180116
DTSTAMP:20260425T180741
CREATED:20171012T190508Z
LAST-MODIFIED:20171012T190508Z
UID:689-1515974400-1516060799@cle.mn.gov
SUMMARY:Office closed
DESCRIPTION:
URL:https://cle.mn.gov/event/office-closed-14/
END:VEVENT
BEGIN:VEVENT
DTSTART;VALUE=DATE:20180101
DTEND;VALUE=DATE:20180102
DTSTAMP:20260425T180741
CREATED:20161222T011105Z
LAST-MODIFIED:20161222T011105Z
UID:640-1514764800-1514851199@cle.mn.gov
SUMMARY:Office closed
DESCRIPTION:
URL:https://cle.mn.gov/event/office-closed-13/
END:VEVENT
BEGIN:VEVENT
DTSTART;VALUE=DATE:20171225
DTEND;VALUE=DATE:20171226
DTSTAMP:20260425T180741
CREATED:20161222T011020Z
LAST-MODIFIED:20161222T011020Z
UID:638-1514160000-1514246399@cle.mn.gov
SUMMARY:Office closed
DESCRIPTION:
URL:https://cle.mn.gov/event/office-closed-12/
END:VEVENT
BEGIN:VEVENT
DTSTART;TZID=UTC:20171214T130000
DTEND;TZID=UTC:20171214T140000
DTSTAMP:20260425T180741
CREATED:20161222T005745Z
LAST-MODIFIED:20161222T005745Z
UID:616-1513256400-1513260000@cle.mn.gov
SUMMARY:CLE Board meeting
DESCRIPTION:CLE Board meeting to be held in Board office on 12/14/17 at 1:00 p.m.
URL:https://cle.mn.gov/event/cle-board-meeting-8/
END:VEVENT
BEGIN:VEVENT
DTSTART;VALUE=DATE:20171123
DTEND;VALUE=DATE:20171125
DTSTAMP:20260425T180741
CREATED:20161222T010923Z
LAST-MODIFIED:20161222T010923Z
UID:636-1511395200-1511567999@cle.mn.gov
SUMMARY:Office closed
DESCRIPTION:
URL:https://cle.mn.gov/event/office-closed-11/
END:VEVENT
BEGIN:VEVENT
DTSTART;VALUE=DATE:20171122
DTEND;VALUE=DATE:20171123
DTSTAMP:20260425T180741
CREATED:20161222T010830Z
LAST-MODIFIED:20161222T010830Z
UID:634-1511308800-1511395199@cle.mn.gov
SUMMARY:Office hours 11/22/17 are 7:30 a.m. - 4:00 p.m.
DESCRIPTION:
URL:https://cle.mn.gov/event/office-hours-112217-are-730-a-m-400-p-m/
END:VEVENT
BEGIN:VEVENT
DTSTART;VALUE=DATE:20171110
DTEND;VALUE=DATE:20171111
DTSTAMP:20260425T180741
CREATED:20161222T010638Z
LAST-MODIFIED:20161222T010638Z
UID:630-1510272000-1510358399@cle.mn.gov
SUMMARY:Office closed
DESCRIPTION:
URL:https://cle.mn.gov/event/office-closed-10/
END:VEVENT
BEGIN:VEVENT
DTSTART;VALUE=DATE:20171109
DTEND;VALUE=DATE:20171110
DTSTAMP:20260425T180741
CREATED:20161222T010734Z
LAST-MODIFIED:20161222T010734Z
UID:632-1510185600-1510271999@cle.mn.gov
SUMMARY:Office hours 11/9/17 are 7:30 a.m. - 4:00 p.m.
DESCRIPTION:
URL:https://cle.mn.gov/event/office-hours-11917-are-730-a-m-400-p-m/
END:VEVENT
BEGIN:VEVENT
DTSTART;TZID=UTC:20170921T130000
DTEND;TZID=UTC:20170921T140000
DTSTAMP:20260425T180741
CREATED:20161222T005718Z
LAST-MODIFIED:20161222T005718Z
UID:614-1505998800-1506002400@cle.mn.gov
SUMMARY:CLE Board meeting
DESCRIPTION:CLE Board meeting to be held in Board office on 9/21/17 at 1:00 p.m.
URL:https://cle.mn.gov/event/cle-board-meeting-7/
END:VEVENT
BEGIN:VEVENT
DTSTART;VALUE=DATE:20170904
DTEND;VALUE=DATE:20170905
DTSTAMP:20260425T180741
CREATED:20161222T010541Z
LAST-MODIFIED:20161222T010541Z
UID:628-1504483200-1504569599@cle.mn.gov
SUMMARY:Office closed
DESCRIPTION:
URL:https://cle.mn.gov/event/office-closed-9/
END:VEVENT
END:VCALENDAR