BEGIN:VCALENDAR
VERSION:2.0
PRODID:-//Minnesota State Board of Continuing Legal Education - ECPv6.15.20//NONSGML v1.0//EN
CALSCALE:GREGORIAN
METHOD:PUBLISH
X-ORIGINAL-URL:https://cle.mn.gov
X-WR-CALDESC:Events for Minnesota State Board of Continuing Legal Education
REFRESH-INTERVAL;VALUE=DURATION:PT1H
X-Robots-Tag:noindex
X-PUBLISHED-TTL:PT1H
BEGIN:VTIMEZONE
TZID:America/Chicago
BEGIN:DAYLIGHT
TZOFFSETFROM:-0600
TZOFFSETTO:-0500
TZNAME:CDT
DTSTART:20190310T080000
END:DAYLIGHT
BEGIN:STANDARD
TZOFFSETFROM:-0500
TZOFFSETTO:-0600
TZNAME:CST
DTSTART:20191103T070000
END:STANDARD
BEGIN:DAYLIGHT
TZOFFSETFROM:-0600
TZOFFSETTO:-0500
TZNAME:CDT
DTSTART:20200308T080000
END:DAYLIGHT
BEGIN:STANDARD
TZOFFSETFROM:-0500
TZOFFSETTO:-0600
TZNAME:CST
DTSTART:20201101T070000
END:STANDARD
BEGIN:DAYLIGHT
TZOFFSETFROM:-0600
TZOFFSETTO:-0500
TZNAME:CDT
DTSTART:20210314T080000
END:DAYLIGHT
BEGIN:STANDARD
TZOFFSETFROM:-0500
TZOFFSETTO:-0600
TZNAME:CST
DTSTART:20211107T070000
END:STANDARD
BEGIN:DAYLIGHT
TZOFFSETFROM:-0600
TZOFFSETTO:-0500
TZNAME:CDT
DTSTART:20220313T080000
END:DAYLIGHT
BEGIN:STANDARD
TZOFFSETFROM:-0500
TZOFFSETTO:-0600
TZNAME:CST
DTSTART:20221106T070000
END:STANDARD
END:VTIMEZONE
BEGIN:VTIMEZONE
TZID:UTC
BEGIN:STANDARD
TZOFFSETFROM:+0000
TZOFFSETTO:+0000
TZNAME:UTC
DTSTART:20180101T000000
END:STANDARD
END:VTIMEZONE
BEGIN:VEVENT
DTSTART;VALUE=DATE:20210215
DTEND;VALUE=DATE:20210216
DTSTAMP:20260424T080015
CREATED:20201019T173932Z
LAST-MODIFIED:20201019T173932Z
UID:1134-1613347200-1613433599@cle.mn.gov
SUMMARY:Office Closed
DESCRIPTION:
URL:https://cle.mn.gov/event/office-closed-46/
END:VEVENT
BEGIN:VEVENT
DTSTART;VALUE=DATE:20210118
DTEND;VALUE=DATE:20210119
DTSTAMP:20260424T080015
CREATED:20201019T173705Z
LAST-MODIFIED:20201019T173705Z
UID:1128-1610928000-1611014399@cle.mn.gov
SUMMARY:Office Closed
DESCRIPTION:
URL:https://cle.mn.gov/event/office-closed-43/
END:VEVENT
BEGIN:VEVENT
DTSTART;VALUE=DATE:20210101
DTEND;VALUE=DATE:20210102
DTSTAMP:20260424T080015
CREATED:20201019T173627Z
LAST-MODIFIED:20201019T173627Z
UID:1126-1609459200-1609545599@cle.mn.gov
SUMMARY:Office Closed
DESCRIPTION:
URL:https://cle.mn.gov/event/office-closed-42/
END:VEVENT
BEGIN:VEVENT
DTSTART;VALUE=DATE:20201231
DTEND;VALUE=DATE:20210101
DTSTAMP:20260424T080015
CREATED:20190906T142313Z
LAST-MODIFIED:20190906T142313Z
UID:1004-1609372800-1609459199@cle.mn.gov
SUMMARY:Office hours 12/31/20 are 7:30 a.m. to 4:00 p.m.
DESCRIPTION:
URL:https://cle.mn.gov/event/office-hours-12-31-20-are-730-a-m-to-400-p-m/
END:VEVENT
BEGIN:VEVENT
DTSTART;VALUE=DATE:20201225
DTEND;VALUE=DATE:20201226
DTSTAMP:20260424T080015
CREATED:20190906T141818Z
LAST-MODIFIED:20190906T141818Z
UID:1002-1608854400-1608940799@cle.mn.gov
SUMMARY:Office closed
DESCRIPTION:
URL:https://cle.mn.gov/event/office-closed-40/
END:VEVENT
BEGIN:VEVENT
DTSTART;VALUE=DATE:20201224
DTEND;VALUE=DATE:20201225
DTSTAMP:20260424T080015
CREATED:20190906T141511Z
LAST-MODIFIED:20201221T152732Z
UID:982-1608768000-1608854399@cle.mn.gov
SUMMARY:Office Closed
DESCRIPTION:
URL:https://cle.mn.gov/event/office-hours-12-24-20-are-730-a-m-to-400-p-m/
END:VEVENT
BEGIN:VEVENT
DTSTART;VALUE=DATE:20201127
DTEND;VALUE=DATE:20201128
DTSTAMP:20260424T080015
CREATED:20190906T141804Z
LAST-MODIFIED:20190906T141804Z
UID:1000-1606435200-1606521599@cle.mn.gov
SUMMARY:Office closed
DESCRIPTION:
URL:https://cle.mn.gov/event/office-closed-39/
END:VEVENT
BEGIN:VEVENT
DTSTART;VALUE=DATE:20201126
DTEND;VALUE=DATE:20201127
DTSTAMP:20260424T080015
CREATED:20190906T141752Z
LAST-MODIFIED:20190906T141752Z
UID:998-1606348800-1606435199@cle.mn.gov
SUMMARY:Office closed
DESCRIPTION:
URL:https://cle.mn.gov/event/office-closed-38/
END:VEVENT
BEGIN:VEVENT
DTSTART;VALUE=DATE:20201125
DTEND;VALUE=DATE:20201126
DTSTAMP:20260424T080015
CREATED:20190906T141417Z
LAST-MODIFIED:20190906T141417Z
UID:978-1606262400-1606348799@cle.mn.gov
SUMMARY:Office hours 11/25/20 are 7:30 a.m. to 4:00 p.m.
DESCRIPTION:
URL:https://cle.mn.gov/event/office-hours-11-25-20-are-730-a-m-to-400-p-m/
END:VEVENT
BEGIN:VEVENT
DTSTART;VALUE=DATE:20201111
DTEND;VALUE=DATE:20201112
DTSTAMP:20260424T080015
CREATED:20190906T141739Z
LAST-MODIFIED:20190906T141739Z
UID:996-1605052800-1605139199@cle.mn.gov
SUMMARY:Office closed
DESCRIPTION:
URL:https://cle.mn.gov/event/office-closed-37/
END:VEVENT
BEGIN:VEVENT
DTSTART;VALUE=DATE:20201110
DTEND;VALUE=DATE:20201111
DTSTAMP:20260424T080015
CREATED:20190906T141441Z
LAST-MODIFIED:20190906T141441Z
UID:980-1604966400-1605052799@cle.mn.gov
SUMMARY:Office hours 11/10/20 are 7:30 a.m. to 4:00 p.m.
DESCRIPTION:
URL:https://cle.mn.gov/event/office-hours-11-10-20-are-730-a-m-to-400-p-m/
END:VEVENT
BEGIN:VEVENT
DTSTART;VALUE=DATE:20200907
DTEND;VALUE=DATE:20200908
DTSTAMP:20260424T080015
CREATED:20190906T141718Z
LAST-MODIFIED:20190906T141718Z
UID:994-1599436800-1599523199@cle.mn.gov
SUMMARY:Office closed
DESCRIPTION:
URL:https://cle.mn.gov/event/office-closed-36/
END:VEVENT
BEGIN:VEVENT
DTSTART;VALUE=DATE:20200703
DTEND;VALUE=DATE:20200704
DTSTAMP:20260424T080015
CREATED:20190906T141704Z
LAST-MODIFIED:20190906T141704Z
UID:992-1593734400-1593820799@cle.mn.gov
SUMMARY:Office closed
DESCRIPTION:
URL:https://cle.mn.gov/event/office-closed-35/
END:VEVENT
BEGIN:VEVENT
DTSTART;VALUE=DATE:20200702
DTEND;VALUE=DATE:20200703
DTSTAMP:20260424T080015
CREATED:20190906T141539Z
LAST-MODIFIED:20190906T141539Z
UID:984-1593648000-1593734399@cle.mn.gov
SUMMARY:Office hours 7/2/20 are 7:30 a.m. to 4:00 p.m.
DESCRIPTION:
URL:https://cle.mn.gov/event/office-hours-7-2-20-are-730-a-m-to-400-p-m/
END:VEVENT
BEGIN:VEVENT
DTSTART;VALUE=DATE:20200525
DTEND;VALUE=DATE:20200526
DTSTAMP:20260424T080015
CREATED:20190906T141640Z
LAST-MODIFIED:20190906T141640Z
UID:990-1590364800-1590451199@cle.mn.gov
SUMMARY:Office closed
DESCRIPTION:
URL:https://cle.mn.gov/event/office-closed-34/
END:VEVENT
BEGIN:VEVENT
DTSTART;VALUE=DATE:20200217
DTEND;VALUE=DATE:20200218
DTSTAMP:20260424T080015
CREATED:20190906T141622Z
LAST-MODIFIED:20190906T141622Z
UID:988-1581897600-1581983999@cle.mn.gov
SUMMARY:Office closed
DESCRIPTION:
URL:https://cle.mn.gov/event/office-closed-33/
END:VEVENT
BEGIN:VEVENT
DTSTART;VALUE=DATE:20200120
DTEND;VALUE=DATE:20200121
DTSTAMP:20260424T080015
CREATED:20200117T180220Z
LAST-MODIFIED:20200117T180220Z
UID:1045-1579478400-1579564799@cle.mn.gov
SUMMARY:Office Closed
DESCRIPTION:
URL:https://cle.mn.gov/event/office-closed-41/
END:VEVENT
BEGIN:VEVENT
DTSTART;VALUE=DATE:20200101
DTEND;VALUE=DATE:20200102
DTSTAMP:20260424T080015
CREATED:20190906T141604Z
LAST-MODIFIED:20190906T141604Z
UID:986-1577836800-1577923199@cle.mn.gov
SUMMARY:Office closed
DESCRIPTION:
URL:https://cle.mn.gov/event/office-closed-32/
END:VEVENT
BEGIN:VEVENT
DTSTART;VALUE=DATE:20191231
DTEND;VALUE=DATE:20200101
DTSTAMP:20260424T080015
CREATED:20181102T202601Z
LAST-MODIFIED:20181102T202601Z
UID:825-1577750400-1577836799@cle.mn.gov
SUMMARY:Office hours on 12/31/19 are 7:30 a.m. - 4:00 p.m.
DESCRIPTION:
URL:https://cle.mn.gov/event/office-hours-on-12-31-19-are-730-a-m-400-p-m/
END:VEVENT
BEGIN:VEVENT
DTSTART;VALUE=DATE:20191225
DTEND;VALUE=DATE:20191226
DTSTAMP:20260424T080015
CREATED:20181102T202922Z
LAST-MODIFIED:20181102T203433Z
UID:844-1577232000-1577318399@cle.mn.gov
SUMMARY:Office closed
DESCRIPTION:
URL:https://cle.mn.gov/event/office-closed-28/
END:VEVENT
BEGIN:VEVENT
DTSTART;VALUE=DATE:20191224
DTEND;VALUE=DATE:20191225
DTSTAMP:20260424T080015
CREATED:20181102T202736Z
LAST-MODIFIED:20181102T202736Z
UID:832-1577145600-1577231999@cle.mn.gov
SUMMARY:Office hours on 12/24/19 are 7:30 a.m. - 4:00 p.m.
DESCRIPTION:
URL:https://cle.mn.gov/event/office-hours-on-12-24-19-are-730-a-m-400-p-m/
END:VEVENT
BEGIN:VEVENT
DTSTART;VALUE=DATE:20191205
DTEND;VALUE=DATE:20191206
DTSTAMP:20260424T080015
CREATED:20181102T203948Z
LAST-MODIFIED:20181102T204100Z
UID:858-1575504000-1575590399@cle.mn.gov
SUMMARY:CLE Board Meeting
DESCRIPTION:CLE Board meeting to be held in Board office on 12/5/19 at 1:00 p.m.
URL:https://cle.mn.gov/event/cle-board-meeting-15/
END:VEVENT
BEGIN:VEVENT
DTSTART;VALUE=DATE:20191129
DTEND;VALUE=DATE:20191130
DTSTAMP:20260424T080015
CREATED:20181102T202952Z
LAST-MODIFIED:20181102T202952Z
UID:848-1574985600-1575071999@cle.mn.gov
SUMMARY:Office closed
DESCRIPTION:
URL:https://cle.mn.gov/event/office-closed-30/
END:VEVENT
BEGIN:VEVENT
DTSTART;VALUE=DATE:20191128
DTEND;VALUE=DATE:20191129
DTSTAMP:20260424T080015
CREATED:20181102T202939Z
LAST-MODIFIED:20181102T202939Z
UID:846-1574899200-1574985599@cle.mn.gov
SUMMARY:Office closed
DESCRIPTION:
URL:https://cle.mn.gov/event/office-closed-29/
END:VEVENT
BEGIN:VEVENT
DTSTART;VALUE=DATE:20191127
DTEND;VALUE=DATE:20191128
DTSTAMP:20260424T080015
CREATED:20181102T202709Z
LAST-MODIFIED:20181102T202709Z
UID:830-1574812800-1574899199@cle.mn.gov
SUMMARY:Office hours on 11/27/19 are 7:30 a.m. - 4:00 p.m.
DESCRIPTION:
URL:https://cle.mn.gov/event/office-hours-on-11-27-19-are-730-a-m-400-p-m/
END:VEVENT
BEGIN:VEVENT
DTSTART;VALUE=DATE:20191111
DTEND;VALUE=DATE:20191112
DTSTAMP:20260424T080015
CREATED:20181102T203008Z
LAST-MODIFIED:20181102T203008Z
UID:850-1573430400-1573516799@cle.mn.gov
SUMMARY:Office closed
DESCRIPTION:
URL:https://cle.mn.gov/event/office-closed-31/
END:VEVENT
BEGIN:VEVENT
DTSTART;VALUE=DATE:20190902
DTEND;VALUE=DATE:20190903
DTSTAMP:20260424T080015
CREATED:20181102T202906Z
LAST-MODIFIED:20181102T202906Z
UID:842-1567382400-1567468799@cle.mn.gov
SUMMARY:Office closed
DESCRIPTION:
URL:https://cle.mn.gov/event/office-closed-27/
END:VEVENT
BEGIN:VEVENT
DTSTART;VALUE=DATE:20190704
DTEND;VALUE=DATE:20190705
DTSTAMP:20260424T080015
CREATED:20181102T202849Z
LAST-MODIFIED:20181102T202849Z
UID:840-1562198400-1562284799@cle.mn.gov
SUMMARY:Office closed
DESCRIPTION:
URL:https://cle.mn.gov/event/office-closed-26/
END:VEVENT
BEGIN:VEVENT
DTSTART;VALUE=DATE:20190703
DTEND;VALUE=DATE:20190704
DTSTAMP:20260424T080015
CREATED:20181102T202627Z
LAST-MODIFIED:20181102T202640Z
UID:827-1562112000-1562198399@cle.mn.gov
SUMMARY:Office hours on 7/3/19 are 7:30 a.m. - 4:00 p.m.
DESCRIPTION:
URL:https://cle.mn.gov/event/office-hours-on-12-31-18-are-730-a-m-400-p-m/
END:VEVENT
BEGIN:VEVENT
DTSTART;VALUE=DATE:20190613
DTEND;VALUE=DATE:20190614
DTSTAMP:20260424T080015
CREATED:20181102T203836Z
LAST-MODIFIED:20181102T203836Z
UID:854-1560384000-1560470399@cle.mn.gov
SUMMARY:CLE Board Meeting
DESCRIPTION:CLE Board meeting to be held in Board office on 6/13/19 at 1:00 p.m.
URL:https://cle.mn.gov/event/cle-board-meeting-13/
END:VEVENT
END:VCALENDAR