BEGIN:VCALENDAR
VERSION:2.0
PRODID:-//Minnesota State Board of Continuing Legal Education - ECPv6.15.20//NONSGML v1.0//EN
CALSCALE:GREGORIAN
METHOD:PUBLISH
X-ORIGINAL-URL:https://cle.mn.gov
X-WR-CALDESC:Events for Minnesota State Board of Continuing Legal Education
REFRESH-INTERVAL;VALUE=DURATION:PT1H
X-Robots-Tag:noindex
X-PUBLISHED-TTL:PT1H
BEGIN:VTIMEZONE
TZID:UTC
BEGIN:STANDARD
TZOFFSETFROM:+0000
TZOFFSETTO:+0000
TZNAME:UTC
DTSTART:20150101T000000
END:STANDARD
END:VTIMEZONE
BEGIN:VEVENT
DTSTART;TZID=UTC:20160922T130000
DTEND;TZID=UTC:20160922T130000
DTSTAMP:20260419T190300
CREATED:20151231T012711Z
LAST-MODIFIED:20160116T034145Z
UID:368-1474549200-1474549200@cle.mn.gov
SUMMARY:CLE Board Meeting
DESCRIPTION:CLE Board meeting to be held in Board office on 9/22/16 at 1:00 p.m.
URL:https://cle.mn.gov/event/cle-board-meeting-3/
END:VEVENT
END:VCALENDAR